BEGIN:VCALENDAR
VERSION:2.0
PRODID:-//Obec Moravany u Pardubic - ECPv6.15.17.1//NONSGML v1.0//EN
CALSCALE:GREGORIAN
METHOD:PUBLISH
X-WR-CALNAME:Obec Moravany u Pardubic
X-ORIGINAL-URL:https://obec-moravany.cz
X-WR-CALDESC:Akce na Obec Moravany u Pardubic
REFRESH-INTERVAL;VALUE=DURATION:PT1H
X-Robots-Tag:noindex
X-PUBLISHED-TTL:PT1H
BEGIN:VTIMEZONE
TZID:Europe/Prague
BEGIN:DAYLIGHT
TZOFFSETFROM:+0100
TZOFFSETTO:+0200
TZNAME:CEST
DTSTART:20250330T010000
END:DAYLIGHT
BEGIN:STANDARD
TZOFFSETFROM:+0200
TZOFFSETTO:+0100
TZNAME:CET
DTSTART:20251026T010000
END:STANDARD
BEGIN:DAYLIGHT
TZOFFSETFROM:+0100
TZOFFSETTO:+0200
TZNAME:CEST
DTSTART:20260329T010000
END:DAYLIGHT
BEGIN:STANDARD
TZOFFSETFROM:+0200
TZOFFSETTO:+0100
TZNAME:CET
DTSTART:20261025T010000
END:STANDARD
BEGIN:DAYLIGHT
TZOFFSETFROM:+0100
TZOFFSETTO:+0200
TZNAME:CEST
DTSTART:20270328T010000
END:DAYLIGHT
BEGIN:STANDARD
TZOFFSETFROM:+0200
TZOFFSETTO:+0100
TZNAME:CET
DTSTART:20271031T010000
END:STANDARD
END:VTIMEZONE
BEGIN:VEVENT
DTSTART;TZID=Europe/Prague:20260430T170000
DTEND;TZID=Europe/Prague:20260430T210000
DTSTAMP:20260422T165617
CREATED:20260422T105030Z
LAST-MODIFIED:20260422T105030Z
UID:62372-1777568400-1777582800@obec-moravany.cz
SUMMARY:Pálení čarodějnic a stavění májky
DESCRIPTION:SRPŠ Moravany\, ZŠ Moravany\, Obec Moravany a SDH Moravany Vás zvou na pálení čarodějnic a stavění májky dne 30. 4. 2026 od 17:00 hod u Moravanského domu.
URL:https://obec-moravany.cz/udalost/paleni-carodejnic-a-staveni-majky/
LOCATION:Moravanský Park
CATEGORIES:Pozvánky na akce
ATTACH;FMTTYPE=image/jpeg:https://obec-moravany.cz/wp-content/uploads/2026/04/CARODEJNICE-2026.jpg
END:VEVENT
END:VCALENDAR